BEGIN:VCALENDAR
VERSION:2.0
PRODID:-//ChamberMaster//Event Calendar 2.0//EN
METHOD:PUBLISH
X-PUBLISHED-TTL:P3D
REFRESH-INTERVAL:P3D
CALSCALE:GREGORIAN
BEGIN:VEVENT
DTSTART:20200617T130000Z
DTEND:20200617T140000Z
X-MICROSOFT-CDO-ALLDAYEVENT:FALSE
SUMMARY:Virtual Coffee & Commerce
DESCRIPTION:Join us for our free morning networking mixer now online\, it's Virtual Coffee & Commerce! Whether you are looking to make new business connections or just want to exchange ideas with other small business owners\, our new Virtual Coffee & Commerce is the perfect opportunity to enhance your professional network from the comfort of your phone or computer.\n\n\n\nThis event is hosted by the Lakeview Chamber of Commerce\, Lincoln Park Chamber of Commerce\, Roscoe Village Chamber of Commerce\, and the SBAC\, along with our partner\, Capital One Cafe.\n\n\n\nREGISTER HERE VIA ZOOM
X-ALT-DESC;FMTTYPE=text/html:Join us for our free morning networking mixer now online\, it&#39\;s Virtual Coffee &amp\; Commerce! Whether you are looking to make new business connections or just want to exchange ideas with other small business owners\, our new Virtual Coffee &amp\; Commerce is the perfect opportunity to enhance your professional network from the comfort of your phone or computer.<br />\n<br />\nThis event is hosted by the Lakeview Chamber of Commerce\, Lincoln Park Chamber of Commerce\, Roscoe Village Chamber of Commerce\, and the SBAC\, along with our partner\, Capital One Cafe.<br />\n<br />\n<a href="https://us02web.zoom.us/meeting/register/tZwrcuCprDouEtxWPg7N6xayA3RPGN1MjdQw">REGISTER HERE VIA ZOOM</a>
LOCATION:Register for our Zoom Virtual Coffee & Commerce here.
UID:e.1819.13942
SEQUENCE:3
DTSTAMP:20260421T014211Z
URL:https://members.lakeviewroscoevillage.org/events/details/virtual-coffee-commerce-06-17-2020-13942
END:VEVENT

END:VCALENDAR
