BEGIN:VCALENDAR
VERSION:2.0
PRODID:-//ChamberMaster//Event Calendar 2.0//EN
METHOD:PUBLISH
X-PUBLISHED-TTL:P3D
REFRESH-INTERVAL:P3D
CALSCALE:GREGORIAN
BEGIN:VEVENT
DTSTART:20131212T210000Z
DTEND:20131212T230000Z
X-MICROSOFT-CDO-ALLDAYEVENT:FALSE
SUMMARY:Visit Santa at Wheel House
DESCRIPTION:Stop by Wheel House for a visit with Santa and have your picture taken. Bring your camera!\n\n\n\nHe'll be handing out presents to all the good boys and girls (adults\, too)! Stay for lunch and make it a festive afternoon on Southport.
X-ALT-DESC;FMTTYPE=text/html:Stop by Wheel House for a visit&nbsp\;with Santa and have your picture taken. Bring your camera!<br />\n<br />\nHe&#39\;ll be handing out presents&nbsp\;to all&nbsp\;the good&nbsp\;boys and girls (adults\, too)! Stay for lunch and make it a festive afternoon on Southport.
LOCATION:Wheel House Bar 3533 N. Southport 773.325.0123
UID:e.1819.137
SEQUENCE:3
DTSTAMP:20260424T203819Z
URL:https://members.lakeviewroscoevillage.org/events/details/visit-santa-at-wheel-house-12-12-2013-137
END:VEVENT

END:VCALENDAR
