BEGIN:VCALENDAR
VERSION:2.0
PRODID:-//ChamberMaster//Event Calendar 2.0//EN
METHOD:PUBLISH
X-PUBLISHED-TTL:P3D
REFRESH-INTERVAL:P3D
CALSCALE:GREGORIAN
BEGIN:VEVENT
DTSTART:20170802T223000Z
DTEND:20170803T013000Z
X-MICROSOFT-CDO-ALLDAYEVENT:FALSE
SUMMARY:Vuarnet Pop-up Shop at Lakeview Live!
DESCRIPTION:Vuarnet is joining Eye Spy Optical's vintage Airstream\, Iris\, for a Spectacular Summertime Pop-up Shop on August 2nd during Lakeview Live! You probably remember the name of the classic French sunwear designer and this is your chance to see the whole collection of gorgeous sunnies from 5:30 to 8:30pm! \n\nListen to some music\, drink a beer and try on some sunnies with us!
X-ALT-DESC;FMTTYPE=text/html:<a href="https://vuarnet.com/us">Vuarnet</a>&nbsp\;is joining Eye Spy Optical&#39\;s vintage Airstream\, Iris\, for a Spectacular Summertime Pop-up Shop on August 2nd during Lakeview Live! You probably remember the name of the&nbsp\;classic French sunwear designer and this is your chance to see the whole collection of gorgeous sunnies from 5:30 to 8:30pm!&nbsp\;<br />\nListen to some music\, drink a beer and try on some sunnies with us!&nbsp\;
LOCATION:Roscoe and Paulina
UID:e.1819.5219
SEQUENCE:3
DTSTAMP:20260419T123950Z
URL:https://members.lakeviewroscoevillage.org/events/details/vuarnet-pop-up-shop-at-lakeview-live-08-02-2017-5219
END:VEVENT

END:VCALENDAR
