BEGIN:VCALENDAR
VERSION:2.0
PRODID:-//ChamberMaster//Event Calendar 2.0//EN
METHOD:PUBLISH
X-PUBLISHED-TTL:P3D
REFRESH-INTERVAL:P3D
CALSCALE:GREGORIAN
BEGIN:VEVENT
DTSTART;VALUE=DATE:20140213
DTEND;VALUE=DATE:20140301
TRANSP:TRANSPARENT
X-MICROSOFT-CDO-ALLDAYEVENT:TRUE
SUMMARY:Waxing Sale at European Wax Center
DESCRIPTION:Join European Wax Center Chicago - Southport Ave in celebrating the end of winter with the Year of Gorgeous waxing sale. This latest promotion makes hygienic waxing more affordable than ever but must end February 28\, 2014 so residents are advised to book their bikini waxing in Lake View sooner rather than later.\n\n	The fantastic Year of Gorgeous offer is applied when a guest buys 1 full priced wax service at European Wax Center Chicago - Southport Ave\, automatically saving guests 50% off any second waxing service of an equal or lesser value! Professional hair removal in Chicago\,Southport Ave\, Illinois is a luxury everyone can afford with Year of Gorgeous.
X-ALT-DESC;FMTTYPE=text/html:<p style="color: rgb(0\, 0\, 0)\; font-family: 'Open Sans'\, arial\, helvetica\;">\n	Join European Wax Center Chicago - Southport Ave in celebrating the end of winter with the Year of Gorgeous waxing sale. This latest promotion makes hygienic waxing more affordable than ever but must end February 28\, 2014 so residents are advised to book their&nbsp\;<a href="http://www.waxcenter.com/il-chicago-southport-ave" rel="nofollow" style="color: rgb(85\, 102\, 153)\; text-decoration: none\;">bikini waxing in Lake Vie</a>w&nbsp\;sooner rather than later.</p>\n<p style="color: rgb(0\, 0\, 0)\; font-family: 'Open Sans'\, arial\, helvetica\;">\n	The fantastic Year of Gorgeous offer is applied when a guest buys 1 full priced wax service at European Wax Center Chicago - Southport Ave\, automatically saving guests 50% off any second waxing service of an equal or lesser value! Professional&nbsp\;<a href="http://www.waxcenter.com/il-chicago-southport-ave" rel="nofollow" style="color: rgb(85\, 102\, 153)\; text-decoration: none\;">hair removal in Chicago\,Southport Ave\, Illinois</a>&nbsp\;is a luxury everyone can afford with Year of Gorgeous.</p>\n<br />\n<br />\n<br />\n
LOCATION:3728 N. Southport Ave Chicago\, IL 60613
UID:e.1819.208
SEQUENCE:3
DTSTAMP:20260424T153950Z
URL:https://members.lakeviewroscoevillage.org/events/details/waxing-sale-at-european-wax-center-02-13-2014-208
END:VEVENT

END:VCALENDAR
