BEGIN:VCALENDAR
VERSION:2.0
PRODID:-//ChamberMaster//Event Calendar 2.0//EN
METHOD:PUBLISH
X-PUBLISHED-TTL:P3D
REFRESH-INTERVAL:P3D
CALSCALE:GREGORIAN
BEGIN:VEVENT
DTSTART:20140302T000000Z
DTEND:20140302T060000Z
X-MICROSOFT-CDO-ALLDAYEVENT:FALSE
SUMMARY:Wearin' the Green
DESCRIPTION:Show off your favorite green outfit and celebrate St. Patrick's Day at the 10th Annual Saint Andrew Parish and School annual benefit and fundraiser. The event features Irish dancing\, live music\, dancing and live and silent auctions. Food is catered by Mrs. Murphy and Sons Irish Bistro and the bar is open all night. Follow event happenings on our Facebook page: http://on.fb.me/1aXPLCK
X-ALT-DESC;FMTTYPE=text/html:Show off your favorite green outfit and celebrate St. Patrick&#39\;s Day at the 10th Annual Saint Andrew Parish and School annual benefit and fundraiser. The event features Irish dancing\, live music\, dancing and live and silent auctions. Food is catered by Mrs. Murphy and Sons Irish Bistro and the bar is open all night. Follow event happenings on our Facebook page: http://on.fb.me/1aXPLCK
LOCATION:Saint Andrew Gymnasium 1658 W. Addison St. Chicago\, IL 60613
UID:e.1819.185
SEQUENCE:3
DTSTAMP:20260424T140215Z
URL:https://members.lakeviewroscoevillage.org/events/details/wearin-the-green-03-01-2014-185
END:VEVENT

END:VCALENDAR
