BEGIN:VCALENDAR
VERSION:2.0
PRODID:-//ChamberMaster//Event Calendar 2.0//EN
METHOD:PUBLISH
X-PUBLISHED-TTL:P3D
REFRESH-INTERVAL:P3D
CALSCALE:GREGORIAN
BEGIN:VEVENT
DTSTART:20170622T223000Z
DTEND:20170623T003000Z
X-MICROSOFT-CDO-ALLDAYEVENT:FALSE
SUMMARY:Welcome Dr. Brittany to Community Chiropractic!
DESCRIPTION:Join Community Chiropractic for their Launch Party and help them welcome Dr. Brittany to the family! They will have refreshments\, raffle prizes and more!
X-ALT-DESC;FMTTYPE=text/html:Join Community Chiropractic for their Launch Party and help them welcome Dr. Brittany to the family! They will have refreshments\, raffle prizes and more!&nbsp\;
LOCATION:Community Chiropractic 1442 W. Belmont Ave\, Suite 1E Chicago\, IL 60657
UID:e.1819.5182
SEQUENCE:3
DTSTAMP:20260419T181617Z
URL:https://members.lakeviewroscoevillage.org/events/details/welcome-dr-brittany-to-community-chiropractic-06-22-2017-5182
END:VEVENT

END:VCALENDAR
