BEGIN:VCALENDAR
VERSION:2.0
PRODID:-//ChamberMaster//Event Calendar 2.0//EN
METHOD:PUBLISH
X-PUBLISHED-TTL:P3D
REFRESH-INTERVAL:P3D
CALSCALE:GREGORIAN
BEGIN:VEVENT
DTSTART:20140301T220000Z
DTEND:20140301T230000Z
X-MICROSOFT-CDO-ALLDAYEVENT:FALSE
SUMMARY:Wes Anderson visits the Music Box
DESCRIPTION:This Friday we're kicking off The Wes Anderson Anthology\, a complete look at the cinematic legacy to date of one of the most unique voices in contemporary American film. Additionally\, on Saturday\, March 1st at 4pm\, the Music Box will host a special advance screening of Anderson's newest feature\, The Grand Budapest Hotel (Opening in Chicago on March 14th)\, followed by an in-person Q&A with Wes Anderson himself. And it's FREE!\n\n \n\nSo\, how can you get in on this excellent event? Read on.\n\n \n\nOn Tuesday\, Feb 25 (Tomorrow!) at Noon\, we will begin accepting RSVPs online (Right Here). We are only taking RSVPs through the website\, you may not call or visit the theatre to RSVP.\n\nPatrons have the option of RSVPing for 1 or 2 people. We politely ask that\, unless you have already worked it out with a specific friend beforehand\, please don't RSVP for two people. This is going to be a very popular event and we would hate to turn people away for RSVPs that are going unused.\n\n \n\nTo ensure a full theatre\, this will be an overbooked event. Patrons will be admitted on a first-come\, first-serve basis on Saturday. An RSVP does not guarantee admittance. We plan on seating around 3:15pm on Saturday. Patrons who secure an RSVP must PRINT OUT their confirmation and present it at the Music Box box office on Saturday.
X-ALT-DESC;FMTTYPE=text/html:<span style="font-family:arial\,sans-serif\;"><span style="font-size:10.0pt\;">This Friday we&rsquo\;re kicking off <a href="http://www.vendini.com/e/rd.php?id=208254094&amp\;cid=97456&amp\;link_number=9&amp\;u=http%3A%2F%2Fwww.musicboxtheatre.com%2Fcollections%2Fthe-wes-anderson-anthology" target="_blank"><cite style="text-shadow:1px 1px 1px #cccccc\;"><strong><span style="text-decoration:none\;text-underline:none\;"><span style="color:#660000\;"><span style="font-family:georgia\,serif\;">The Wes Anderson Anthology</span></span></span></strong></cite></a>\, a complete look at the cinematic legacy to date of one of the most unique voices in contemporary American film. Additionally\, on Saturday\, March 1st at 4pm\, the Music Box will host a special advance screening of Anderson&rsquo\;s newest feature\, </span></span><cite style="text-shadow:1px 1px 1px #cccccc\;"><strong><span style="font-family:georgia\,serif\;"><span style="font-size:10.0pt\;">The Grand Budapest Hotel</span></span></strong></cite><span style="font-family:arial\,sans-serif\;"><span style="font-size:10.0pt\;"> (Opening in Chicago on March 14th)\, followed by an in-person Q&amp\;A with Wes Anderson himself. And it&rsquo\;s FREE</span>!<br />\n&nbsp\;</span><br />\n<span style="font-family:arial\,sans-serif\;"><span style="font-size:10.0pt\;">So\, how can you get in on this excellent event? Read on.<br />\n&nbsp\;</span></span><br />\n<span style="font-family:arial\,sans-serif\;"><span style="font-size:10.0pt\;">On Tuesday\, Feb 25 (Tomorrow!) at Noon\, we will begin accepting RSVP</span>s online (<a href="http://www.vendini.com/e/rd.php?id=208254094&amp\;cid=97456&amp\;link_number=10&amp\;u=https%3A%2F%2Fwww.eventbrite.com%2Fe%2Fspecial-advance-screening-of-the-grand-budapest-hotel-with-qa-with-dir-wes-anderson-tickets-10702873583%3Fref%3Destw" target="_blank"><strong><span style="text-decoration:none\;text-underline:none\;"><span style="color:#660000\;">Right Here</span></span></strong></a>). We are only taking RSVP</span>s through the website\, you may not call or visit the theatre to RSVP.<br />\n<span style="font-family:arial\,sans-serif\;"><span style="font-size:10.0pt\;">Patrons have the option of </span><span style="font-size:10.0pt\;">RSVP</span>ing for 1 or 2 people. We politely ask that\, unless you have already worked it out with a specific friend beforehand\, please don&rsquo\;t RSVP</span> for two people. This is going to be a very popular event and we would hate to turn people away for RSVPs that are going unused.<br />\n&nbsp\;<br />\n<span style="font-family:arial\,sans-serif\;"><span style="font-size:10.0pt\;">To ensure a full theatre\, this will be an overbooked event. Patrons will be admitted on a first-come\, first-serve basis on Saturday. An RSVP</span> does not guarantee admittance. We plan on seating around 3:15pm on Saturday. Patrons who secure an RSVP</span> must PRINT OUT their confirmation and present it at the Music Box box office on Saturday.
LOCATION:Music Box Theatre 3733 N. Southport Ave Chicago\, IL 60613
UID:e.1819.215
SEQUENCE:3
DTSTAMP:20260424T140435Z
URL:https://members.lakeviewroscoevillage.org/events/details/wes-anderson-visits-the-music-box-03-01-2014-215
END:VEVENT

END:VCALENDAR
