BEGIN:VCALENDAR
VERSION:2.0
PRODID:-//ChamberMaster//Event Calendar 2.0//EN
METHOD:PUBLISH
X-PUBLISHED-TTL:P3D
REFRESH-INTERVAL:P3D
CALSCALE:GREGORIAN
BEGIN:VEVENT
DTSTART:20151112T150000Z
DTEND:20151112T160000Z
X-MICROSOFT-CDO-ALLDAYEVENT:FALSE
SUMMARY:Whole Foods Market Ground Breaking
DESCRIPTION:Join us for a Ground Breaking Ceremony for Whole Foods Market on Belmont and Ashland.
X-ALT-DESC;FMTTYPE=text/html:Join us for a Ground Breaking Ceremony for Whole Foods Market on Belmont and Ashland.&nbsp\;
LOCATION:3201 N Ashland (NE Corner of Belmont & Ashland)
UID:e.1819.2239
SEQUENCE:3
DTSTAMP:20260422T223648Z
URL:https://members.lakeviewroscoevillage.org/events/details/whole-foods-market-ground-breaking-11-12-2015-2239
END:VEVENT

END:VCALENDAR
