BEGIN:VCALENDAR
VERSION:2.0
PRODID:-//ChamberMaster//Event Calendar 2.0//EN
METHOD:PUBLISH
X-PUBLISHED-TTL:P3D
REFRESH-INTERVAL:P3D
CALSCALE:GREGORIAN
BEGIN:VEVENT
DTSTART:20170111T010000Z
DTEND:20170111T030000Z
X-MICROSOFT-CDO-ALLDAYEVENT:FALSE
SUMMARY:Wigging Out for the Holidays!
DESCRIPTION:Diag is hosting their annual holiday party for neighborhood friends\, family\, regulars and employees! Come dressed in your best wig and party the night away. Complimentary food and drinks from 7-9pm. All are welcome! Invite your friends\, family\, and your coworkers! In order to attend email Mikaela@diagchicago.comwith your name and how many people you plan on bringing.
X-ALT-DESC;FMTTYPE=text/html:<span style="font-family: arial\, helvetica\, sans-serif\; font-size: 12.8px\;">Diag is hosting their annual holiday party for neighborhood friends\, family\, regulars and employees! Come dressed in your best wig and party the night away. Complimentary food and drinks from&nbsp\;</span><span class="aBn" data-term="goog_701402772" style="border-bottom: 1px dashed rgb(204\, 204\, 204)\; position: relative\; top: -2px\; z-index: 0\; font-family: arial\, helvetica\, sans-serif\; font-size: 12.8px\;" tabindex="0"><span class="aQJ" style="position: relative\; top: 2px\; z-index: -1\;">7-9pm</span></span><span style="font-family: arial\, helvetica\, sans-serif\; font-size: 12.8px\;">. All are welcome! Invite your friends\, family\, and your coworkers! In order to attend email&nbsp\;</span><a href="mailto:Mikaela@diagchicago.com" style="color: rgb(17\, 85\, 204)\; font-family: arial\, helvetica\, sans-serif\; font-size: 12.8px\;" target="_blank"><span class="il">Mikaela@diagchicago.com</span></a><span style="font-family: arial\, helvetica\, sans-serif\; font-size: 12.8px\;">with your name and how many people you plan on bringing.</span>
LOCATION:Diag Bar & Grill 2856 N Southport Ave.
UID:e.1819.4871
SEQUENCE:3
DTSTAMP:20260420T031255Z
URL:https://members.lakeviewroscoevillage.org/events/details/wigging-out-for-the-holidays-01-10-2017-4871
END:VEVENT

END:VCALENDAR
