BEGIN:VCALENDAR
VERSION:2.0
PRODID:-//ChamberMaster//Event Calendar 2.0//EN
METHOD:PUBLISH
X-PUBLISHED-TTL:P3D
REFRESH-INTERVAL:P3D
CALSCALE:GREGORIAN
BEGIN:VEVENT
DTSTART;VALUE=DATE:20161021
DTEND;VALUE=DATE:20161022
TRANSP:TRANSPARENT
X-MICROSOFT-CDO-ALLDAYEVENT:TRUE
SUMMARY:Wildwood Photography Launch Party & Ribbon Cutting
DESCRIPTION:Welcome Wildwood Photography to Lakeview at their Launch Party!
X-ALT-DESC;FMTTYPE=text/html:Welcome Wildwood Photography to Lakeview at their Launch Party!&nbsp\;<br />\n<br />\n&nbsp\;
LOCATION:Wildwood Photography 3726 N Southport
UID:e.1819.4634
SEQUENCE:3
DTSTAMP:20260422T085634Z
URL:https://members.lakeviewroscoevillage.org/events/details/wildwood-photography-launch-party-ribbon-cutting-10-21-2016-4634
END:VEVENT

END:VCALENDAR
