BEGIN:VCALENDAR
VERSION:2.0
PRODID:-//ChamberMaster//Event Calendar 2.0//EN
METHOD:PUBLISH
X-PUBLISHED-TTL:P3D
REFRESH-INTERVAL:P3D
CALSCALE:GREGORIAN
BEGIN:VEVENT
DTSTART:20160113T233000Z
DTEND:20160114T013000Z
X-MICROSOFT-CDO-ALLDAYEVENT:FALSE
SUMMARY:Wired Wednesday Networking
DESCRIPTION:Join us for a fun night of networking and conversation.  Enjoy complimentary hors d' oeuvres and beverages provided by Flo.
X-ALT-DESC;FMTTYPE=text/html:Join us for a fun night of networking and conversation. &nbsp\;<span style="line-height: 20.8px\;">Enjoy complimentary hors d&#39\; oeuvres and beverages provided by Flo.</span>
LOCATION:Flo Restaurant 2901 N Ashland
UID:e.1819.2266
SEQUENCE:3
DTSTAMP:20260422T184251Z
URL:https://members.lakeviewroscoevillage.org/events/details/wired-wednesday-networking-01-13-2016-2266
END:VEVENT

END:VCALENDAR
