BEGIN:VCALENDAR
VERSION:2.0
PRODID:-//ChamberMaster//Event Calendar 2.0//EN
METHOD:PUBLISH
X-PUBLISHED-TTL:P3D
REFRESH-INTERVAL:P3D
CALSCALE:GREGORIAN
BEGIN:VEVENT
DTSTART:20160210T233000Z
DTEND:20160211T013000Z
X-MICROSOFT-CDO-ALLDAYEVENT:FALSE
SUMMARY:Wired Wednesday Networking
DESCRIPTION:Join us for a fun night of networking and conversation with complimentary snacks and beverages. Our Starbucks hosts will be offering a premium french press coffee tasting\, as well as teas\, soft drinks\, pastries and cookies. Make sure to stay for the Starbucks gift basket raffle!
X-ALT-DESC;FMTTYPE=text/html:Join us for a fun night of networking and conversation with complimentary snacks and beverages. Our Starbucks hosts will be offering a<span style="line-height: 20.8px\;">&nbsp\;premium french&nbsp\;press coffee tasting\, as well as teas\, soft drinks\, pastries and cookies. Make sure to stay for the Starbucks gift basket raffle!</span>
LOCATION:Starbucks (Basement meeting room) 3356 N Lincoln
UID:e.1819.2685
SEQUENCE:3
DTSTAMP:20260422T184214Z
URL:https://members.lakeviewroscoevillage.org/events/details/wired-wednesday-networking-02-10-2016-2685
END:VEVENT

END:VCALENDAR
