BEGIN:VCALENDAR
VERSION:2.0
PRODID:-//ChamberMaster//Event Calendar 2.0//EN
METHOD:PUBLISH
X-PUBLISHED-TTL:P3D
REFRESH-INTERVAL:P3D
CALSCALE:GREGORIAN
BEGIN:VEVENT
DTSTART:20131016T223000Z
DTEND:20131017T003000Z
X-MICROSOFT-CDO-ALLDAYEVENT:FALSE
SUMMARY:Wired Wednesday Networking
DESCRIPTION:Join us at Toon's for Wired Wednesday Networking event\, sponsored by Peapod. \n\n\n\nEnjoy free appetizers and drink specials while learning about Peapod's Business Delivery service.\n\n\n\nAll attendees will receive a $25 coupon towards your initial order of groceries with Peapod. \n\n\n\nPeapod's Business Delivery service brings all types of groceries to your office.  Working with this leading internet grocer is a great way to help your employees with Wellness Initiatives by offering fresh fruits and vegetables as well as fulfilling all of your break room and office supply needs.
X-ALT-DESC;FMTTYPE=text/html:<span style="font-family: calibri\,sans-serif\;"><span style="font-size: medium\;">Join us at Toon&#39\;s&nbsp\;for Wired Wednesday Networking event\, sponsored by <a href="http://www.peapod.com/">Peapod.&nbsp\;</a><br />\n<br />\nEnjoy free appetizers and drink specials while learning about Peapod&#39\;s Business Delivery service.<br />\n<br />\nAll attendees will receive a $25 coupon towards your initial order of groceries with <a href="http://www.peapod.com/">Peapod. </a><br />\n<br />\n<font face="Calibri" size="3"><font face="Calibri" size="3">Peapod&#39\;s Business Delivery service</font>&nbsp\;brings all types of groceries to your office.&nbsp\; Working with this leading internet grocer is a great way to help your employees with Wellness Initiatives by offering fresh fruits and vegetables as well as fulfilling all of your break room and office supply needs.</font></span></span><br />\n
LOCATION:Toon's Bar & Grill 3857 N. Southport Ave
UID:e.1819.71
SEQUENCE:3
DTSTAMP:20260424T224144Z
URL:https://members.lakeviewroscoevillage.org/events/details/wired-wednesday-networking-10-16-2013-71
END:VEVENT

END:VCALENDAR
