BEGIN:VCALENDAR
VERSION:2.0
PRODID:-//ChamberMaster//Event Calendar 2.0//EN
METHOD:PUBLISH
X-PUBLISHED-TTL:P3D
REFRESH-INTERVAL:P3D
CALSCALE:GREGORIAN
BEGIN:VEVENT
DTSTART:20161109T233000Z
DTEND:20161110T013000Z
X-MICROSOFT-CDO-ALLDAYEVENT:FALSE
SUMMARY:Wired Wednesday Networking
DESCRIPTION:Join us on the second Wednesday of every month from 5:30-7:30PM at a member business for a fun evening of networking and conversation. Our November event will be held at National Runaway Safeline (NRS) where you can learn more about their mission and enjoy complimentary wine and hor d'oeuvres. \n\n\n\nNRS helps keep America's runaway\, homeless and at-risk youth safe and off the streets. NRS makes 250\,000 connections to help and hope through its hotline\, online and offline services. The 1-800-RUNAWAY hotline and1800RUNAWAY.org online crisis services are available 24-hours a day\, 7 days a week and 365 days a year. The organization serves as the federally designated national communication system for runaway and homeless youth.
X-ALT-DESC;FMTTYPE=text/html:Join us on the second Wednesday of every month from 5:30-7:30PM at a member business for a fun evening of networking and conversation. Our November event will be held at&nbsp\;National Runaway Safeline&nbsp\;(NRS) where you can learn more about their mission and enjoy complimentary wine and hor d&#39\;oeuvres.&nbsp\;<br />\n<br />\nNRS helps keep America&rsquo\;s runaway\, homeless and at-risk youth safe and off the streets. NRS makes 250\,000 connections to help and hope through its hotline\, online and offline services. The 1-800-RUNAWAY hotline and<a href="http://1800runaway.org/" rel="nofollow nofollow" target="_blank">1800RUNAWAY.org</a>&nbsp\;online crisis services are available 24-hours a day\, 7 days a week and 365 days a year. The organization serves as the federally designated national communication system for runaway and homeless youth.
LOCATION:3141B N. Lincoln Ave.
UID:e.1819.4635
SEQUENCE:3
DTSTAMP:20260420T063910Z
URL:https://members.lakeviewroscoevillage.org/events/details/wired-wednesday-networking-11-09-2016-4635
END:VEVENT

END:VCALENDAR
