BEGIN:VCALENDAR
VERSION:2.0
PRODID:-//ChamberMaster//Event Calendar 2.0//EN
METHOD:PUBLISH
X-PUBLISHED-TTL:P3D
REFRESH-INTERVAL:P3D
CALSCALE:GREGORIAN
BEGIN:VEVENT
DTSTART:20161012T223000Z
DTEND:20161013T003000Z
X-MICROSOFT-CDO-ALLDAYEVENT:FALSE
SUMMARY:Wired Wednesday Networking: Beer + Business Edition
DESCRIPTION:Join us on the second Wednesday of every month from 5:30-7:30PM at a member business for a fun evening of networking and conversation. Our October event will be held at Beermiscuous where you will be able to try fresh\, locally-focused beers in a relaxed environment.
X-ALT-DESC;FMTTYPE=text/html:Join us on the second Wednesday of every month from 5:30-7:30PM at a member business for a fun evening of networking and conversation. Our October event will be held at Beermiscuous where you will be able to try fresh\, locally-focused beers in a relaxed environment.
LOCATION:2812 N Lincoln Ave.
UID:e.1819.3812
SEQUENCE:3
DTSTAMP:20260422T084936Z
URL:https://members.lakeviewroscoevillage.org/events/details/wired-wednesday-networking-beer-business-edition-10-12-2016-3812
END:VEVENT

END:VCALENDAR
