BEGIN:VCALENDAR
VERSION:2.0
PRODID:-//ChamberMaster//Event Calendar 2.0//EN
METHOD:PUBLISH
X-PUBLISHED-TTL:P3D
REFRESH-INTERVAL:P3D
CALSCALE:GREGORIAN
BEGIN:VEVENT
DTSTART:20140319T133000Z
DTEND:20140319T150000Z
X-MICROSOFT-CDO-ALLDAYEVENT:FALSE
SUMMARY:Wired Wednesday Networking Event at DAVIDsTEA
DESCRIPTION:Sample delicious teas during our morning networking event at DAVIDsTea on Southport. This is a fun\, relaxed way to network and build professional relationships. Sample some tea and make new contacts. Members and non-members welcome!\n\n\n\nEvery guest will have an opportunity to give a 30-second "elevator speech" about their business or product. \n\n\n\nREGISTER TODAY! \n\n \n\nAbout\n\n\n\nAt DAVIDsTEA\, we believe tea is so much more than just a great way to get a little energy\, warmth or relaxation. We think tea should be fun   and that every sip should end in a smile.\n\n\n\nThat's why we put so much energy into sourcing the best quality teas and ingredients we can. It's why we're always dreaming up crazy delicious flavours and ingredients to try   like Red Velvet Cake\, Blueberry Jam and Hot Lips. And it's why we make every effort to source organic and all-natural whenever we possibly can. \n\n\n\nSince we were first founded in 2008 in Montreal\, we've worked hard to make tea feel fresh\, exciting and modern\, with over 150 teas and infusions to try\, new teas launching every month and tons of cool gadgets and tea accessories to try. Tea might be a familiar comfort\, but we think every cup can be a new adventure
X-ALT-DESC;FMTTYPE=text/html:Sample delicious teas during our morning networking event at DAVIDsTea on Southport. This is a fun\, relaxed way to network and build professional relationships. Sample some tea and make new contacts. Members and non-members welcome!<br />\n<br />\n<strong>Every guest will have an opportunity to give a 30-second &quot\;elevator speech&quot\; about their business or product.&nbsp\;<br />\n<br />\n<a href="http://www.eventbrite.com/e/wired-wednesday-networking-event-tickets-10894922005">REGISTER TODAY!</a>&nbsp\;</strong><br />\n&nbsp\;\n<div class="mn-section-head" style="margin: 0px\; padding: 15px 0px 0px\; border: none\; border-image-source: none\; border-image-slice: 100% 1 0\; border-image-repeat: stretch\; background-image: none\; border-collapse: separate\; border-top-left-radius: 0px\; border-top-right-radius: 0px\; border-bottom-right-radius: 0px\; border-bottom-left-radius: 0px\; bottom: auto\; box-sizing: content-box\; clear: none\; content: normal\; direction: inherit\; empty-cells: show\; font-family: Arial\, Helvetica\, Verdana\, sans-serif\; font-size: 14px\; left: auto\; line-height: 18.200000762939453px\; max-height: none\; max-width: none\; opacity: 1\; outline: invert none medium\; outline-offset: 0px\; overflow: visible\; position: static\; resize: none\; right: auto\; table-layout: auto\; text-justify: inherit\; text-overflow: clip\; top: auto\; vertical-align: baseline\; visibility: inherit\; word-break: inherit\; word-wrap: inherit\; z-index: auto\; height: auto\; width: auto\; box-shadow: none\;">\n<h2 style="margin: 0px 0px 10px\; padding: 0px\; border: 0px\; font-family: Georgia\, 'Times New Roman'\, Times\, serif\; font-size: 16px\; line-height: 20px\; color: rgb(146\, 200\, 62)\;">About</h2>\n</div>\n\n<div class="mn-section-content" style="margin: 0px\; padding: 0px\; border: none\; border-image-source: none\; border-image-slice: 100% 1 0\; border-image-repeat: stretch\; background-image: none\; border-collapse: separate\; border-top-left-radius: 0px\; border-top-right-radius: 0px\; border-bottom-right-radius: 0px\; border-bottom-left-radius: 0px\; bottom: auto\; box-sizing: content-box\; clear: none\; content: normal\; direction: inherit\; empty-cells: show\; font-family: Arial\, Helvetica\, Verdana\, sans-serif\; font-size: 14px\; left: auto\; line-height: 18.200000762939453px\; max-height: none\; max-width: none\; opacity: 1\; outline: invert none medium\; outline-offset: 0px\; overflow: visible\; position: static\; resize: none\; right: auto\; table-layout: auto\; text-justify: inherit\; text-overflow: clip\; top: auto\; vertical-align: baseline\; visibility: inherit\; word-break: inherit\; word-wrap: inherit\; z-index: auto\; height: auto\; width: auto\; box-shadow: none\;">\n<p style="margin: 1em 0px\; padding: 0px\; border: none\; border-image-source: none\; border-image-slice: 100% 1 0\; border-image-repeat: stretch\; line-height: inherit\; background-image: none\; border-collapse: separate\; border-top-left-radius: 0px\; border-top-right-radius: 0px\; border-bottom-right-radius: 0px\; border-bottom-left-radius: 0px\; bottom: auto\; box-sizing: content-box\; clear: none\; color: inherit\; content: normal\; direction: inherit\; empty-cells: show\; font-family: inherit\; font-size: inherit\; font-style: inherit\; font-variant: inherit\; font-weight: inherit\; left: auto\; letter-spacing: inherit\; max-height: none\; max-width: none\; opacity: 1\; outline: invert none medium\; outline-offset: 0px\; overflow: visible\; position: static\; resize: none\; right: auto\; table-layout: auto\; text-align: inherit\; text-indent: inherit\; text-justify: inherit\; text-overflow: clip\; text-transform: inherit\; top: auto\; vertical-align: baseline\; visibility: inherit\; white-space: inherit\; word-break: inherit\; word-spacing: inherit\; word-wrap: inherit\; z-index: auto\; height: auto\; width: auto\; box-shadow: none\;"><em><span style="font-size:12px\;">At DAVIDsTEA\, we believe tea is so much more than just a great way to get a little energy\, warmth or relaxation. We think tea should be fun &ndash\; and that every sip should end in a smile.<br style="margin: 0px\; padding: 0px\; border: none\; border-image-source: none\; border-image-slice: 100% 1 0\; border-image-repeat: stretch\; background-image: none\; border-collapse: separate\; border-top-left-radius: 0px\; border-top-right-radius: 0px\; border-bottom-right-radius: 0px\; border-bottom-left-radius: 0px\; bottom: auto\; box-sizing: content-box\; clear: none\; color: inherit\; content: normal\; direction: inherit\; display: inline\; empty-cells: show\; font-family: inherit\; font-size: inherit\; font-style: inherit\; font-variant: inherit\; font-weight: inherit\; left: auto\; letter-spacing: inherit\; line-height: inherit\; max-height: none\; max-width: none\; opacity: 1\; outline: invert none medium\; outline-offset: 0px\; overflow: visible\; position: static\; resize: none\; right: auto\; table-layout: auto\; text-align: inherit\; text-indent: inherit\; text-justify: inherit\; text-overflow: clip\; text-transform: inherit\; top: auto\; vertical-align: baseline\; visibility: inherit\; white-space: inherit\; word-break: inherit\; word-spacing: inherit\; word-wrap: inherit\; z-index: auto\; height: auto\; width: auto\;" />\n<br style="margin: 0px\; padding: 0px\; border: none\; border-image-source: none\; border-image-slice: 100% 1 0\; border-image-repeat: stretch\; background-image: none\; border-collapse: separate\; border-top-left-radius: 0px\; border-top-right-radius: 0px\; border-bottom-right-radius: 0px\; border-bottom-left-radius: 0px\; bottom: auto\; box-sizing: content-box\; clear: none\; color: inherit\; content: normal\; direction: inherit\; display: inline\; empty-cells: show\; font-family: inherit\; font-size: inherit\; font-style: inherit\; font-variant: inherit\; font-weight: inherit\; left: auto\; letter-spacing: inherit\; line-height: inherit\; max-height: none\; max-width: none\; opacity: 1\; outline: invert none medium\; outline-offset: 0px\; overflow: visible\; position: static\; resize: none\; right: auto\; table-layout: auto\; text-align: inherit\; text-indent: inherit\; text-justify: inherit\; text-overflow: clip\; text-transform: inherit\; top: auto\; vertical-align: baseline\; visibility: inherit\; white-space: inherit\; word-break: inherit\; word-spacing: inherit\; word-wrap: inherit\; z-index: auto\; height: auto\; width: auto\;" />\nThat&rsquo\;s why we put so much energy into sourcing the best quality teas and ingredients we can. It&rsquo\;s why we&rsquo\;re always dreaming up crazy delicious flavours and ingredients to try &ndash\; like Red Velvet Cake\, Blueberry Jam and Hot Lips. And it&rsquo\;s why we make every effort to source organic and all-natural whenever we possibly can.&nbsp\;<br style="margin: 0px\; padding: 0px\; border: none\; border-image-source: none\; border-image-slice: 100% 1 0\; border-image-repeat: stretch\; background-image: none\; border-collapse: separate\; border-top-left-radius: 0px\; border-top-right-radius: 0px\; border-bottom-right-radius: 0px\; border-bottom-left-radius: 0px\; bottom: auto\; box-sizing: content-box\; clear: none\; color: inherit\; content: normal\; direction: inherit\; display: inline\; empty-cells: show\; font-family: inherit\; font-size: inherit\; font-style: inherit\; font-variant: inherit\; font-weight: inherit\; left: auto\; letter-spacing: inherit\; line-height: inherit\; max-height: none\; max-width: none\; opacity: 1\; outline: invert none medium\; outline-offset: 0px\; overflow: visible\; position: static\; resize: none\; right: auto\; table-layout: auto\; text-align: inherit\; text-indent: inherit\; text-justify: inherit\; text-overflow: clip\; text-transform: inherit\; top: auto\; vertical-align: baseline\; visibility: inherit\; white-space: inherit\; word-break: inherit\; word-spacing: inherit\; word-wrap: inherit\; z-index: auto\; height: auto\; width: auto\;" />\n<br style="margin: 0px\; padding: 0px\; border: none\; border-image-source: none\; border-image-slice: 100% 1 0\; border-image-repeat: stretch\; background-image: none\; border-collapse: separate\; border-top-left-radius: 0px\; border-top-right-radius: 0px\; border-bottom-right-radius: 0px\; border-bottom-left-radius: 0px\; bottom: auto\; box-sizing: content-box\; clear: none\; color: inherit\; content: normal\; direction: inherit\; display: inline\; empty-cells: show\; font-family: inherit\; font-size: inherit\; font-style: inherit\; font-variant: inherit\; font-weight: inherit\; left: auto\; letter-spacing: inherit\; line-height: inherit\; max-height: none\; max-width: none\; opacity: 1\; outline: invert none medium\; outline-offset: 0px\; overflow: visible\; position: static\; resize: none\; right: auto\; table-layout: auto\; text-align: inherit\; text-indent: inherit\; text-justify: inherit\; text-overflow: clip\; text-transform: inherit\; top: auto\; vertical-align: baseline\; visibility: inherit\; white-space: inherit\; word-break: inherit\; word-spacing: inherit\; word-wrap: inherit\; z-index: auto\; height: auto\; width: auto\;" />\nSince we were first founded in 2008 in Montreal\, we&rsquo\;ve worked hard to make tea feel fresh\, exciting and modern\, with over 150 teas and infusions to try\, new teas launching every month and tons of cool gadgets and tea accessories to try. Tea might be a familiar comfort\, but we think every cup can be a new adventure</span></em></p>\n</div>\n
LOCATION:DAVIDsTEA 3530 N. Southport Ave Chicago\, IL 60657
UID:e.1819.218
SEQUENCE:3
DTSTAMP:20260424T140026Z
URL:https://members.lakeviewroscoevillage.org/events/details/wired-wednesday-networking-event-at-davidstea-03-19-2014-218
END:VEVENT

END:VCALENDAR
