BEGIN:VCALENDAR
VERSION:2.0
PRODID:-//ChamberMaster//Event Calendar 2.0//EN
METHOD:PUBLISH
X-PUBLISHED-TTL:P3D
REFRESH-INTERVAL:P3D
CALSCALE:GREGORIAN
BEGIN:VEVENT
DTSTART:20160316T003000Z
DTEND:20160316T023000Z
X-MICROSOFT-CDO-ALLDAYEVENT:FALSE
SUMMARY:Women of Ireland Presented By Athenaeum Theatre Productions
DESCRIPTION:Women of Ireland is an innovative and exciting full-stage concert production which showcases the next generation of Ireland's leading female performers. A production which brings together all that is great about the traditions of music\, song and dance in Ireland. Women of Ireland features vocalists The O'Neil Sisters\, Fiddle champions Niamh Fahy and Niamh Gallagher\, award winning aerialist Elena Marina\, principal dancer Caterina Coyne and up to thirty other Irish musicians and dancers. Women of Ireland   Not just another Irish dance show.
X-ALT-DESC;FMTTYPE=text/html:<em>Women of Ireland</em> is an innovative and exciting full-stage concert production which showcases the next generation of Ireland&rsquo\;s leading female performers. A production which brings together all that is great about the traditions of music\, song and dance in Ireland. Women of Ireland features vocalists The O&rsquo\;Neil Sisters\, Fiddle champions Niamh Fahy and Niamh Gallagher\, award winning aerialist Elena Marina\, principal dancer Caterina Coyne and up to thirty other Irish musicians and dancers. <em>Women of Ireland</em> &ndash\; Not just another Irish dance show.
LOCATION:Athenaeum Theatre 2936 N. Southport Ave.
UID:e.1819.2705
SEQUENCE:3
DTSTAMP:20260422T152304Z
URL:https://members.lakeviewroscoevillage.org/events/details/women-of-ireland-presented-by-athenaeum-theatre-productions-03-15-2016-2705
END:VEVENT

END:VCALENDAR
