BEGIN:VCALENDAR
VERSION:2.0
PRODID:-//ChamberMaster//Event Calendar 2.0//EN
METHOD:PUBLISH
X-PUBLISHED-TTL:P3D
REFRESH-INTERVAL:P3D
CALSCALE:GREGORIAN
BEGIN:VEVENT
DTSTART:20140213T000000Z
DTEND:20140213T020000Z
X-MICROSOFT-CDO-ALLDAYEVENT:FALSE
SUMMARY:Women on Fire Book Signing- Hosted by Debi Lilly
DESCRIPTION:Join authors Leah Hamilton and Linda Neff as we celebrate the launch of the new Women on Fire book!\n\n\n\nSip\, savor\, and celebrate with us in red hot fire style!\n\n\n\n\n	\n		\n			\n				\n					Description:\n			\n			\n				\n					Women on Fire  is a membership organization of dynamic\, authentic women who make a difference in the world.\n			\n		\n		\n			\n				\n					Company Overview:\n			\n			\n				\n					Women on Fire  is a membership organization of dynamic\, authentic women who make a difference in the world. \n\n					 \n			\n		\n		\n			\n				\n					Mission:\n			\n			\n				\n					Through inspiration\, strategies and support\, members transform their lives and the lives of other women. Connect with fabulous women in a loving\, celebratory and supportive community!\n			\n		\n		\n			\n				\n					Products:\n			\n			\n				\n					CHECK OUT AMAZON FOR:\n\n					\n\n					BOOK 1: Women on Fire: 20 Inspiring Women Share Their Life Secrets (and Save You Years of Struggle!)\n\n					\n\n					BOOK 2- COMING OUT LATE SUMMER 2013\n\n					Women On Fire Book II: 21 Inspiring Women Share Their Life Secrets (and Save You Years of Struggle!)\n\n					\n\n					\n\n					CHECK OUT OUR EVENTS PAGE FOR:\n\n					\n\n					Teas Across the Country\n\n					\n\n					Annual Women On Fire Retreat EARLY 2014\n\n					\n\n					2 Trips to Paris in 2014\n\n					\n\n					Vision Day \n			\n		\n		\n			\n				\n					Facebook:\n			\n			\n				\n					facebook.com/BeAWomanOnFire
X-ALT-DESC;FMTTYPE=text/html:Join authors <a>Leah Hamilton</a> and <a>Linda Neff</a> as we celebrate the launch of the new <a href="https://m.facebook.com/BeAWomanOnFire">Women on Fire</a> book!<br />\n<br />\nSip\, savor\, and celebrate with us in red hot fire style!<br />\n<br />\n<table>\n	<tbody>\n		<tr valign="top">\n			<td class="label" valign="top">\n				<div class="mfsm">\n					Description:</div>\n			</td>\n			<td valign="top">\n				<div class="mfsm">\n					Women on Fire&trade\; is a membership organization of dynamic\, authentic women who make a difference in the world.</div>\n			</td>\n		</tr>\n		<tr valign="top">\n			<td class="label" valign="top">\n				<div class="mfsm">\n					Company Overview:</div>\n			</td>\n			<td valign="top">\n				<div class="mfsm">\n					<span>Women on Fire&trade\; is a membership organization of dynamic\, authentic women who make a difference in the world. </span><br />\n					&nbsp\;</div>\n			</td>\n		</tr>\n		<tr valign="top">\n			<td class="label" valign="top">\n				<div class="mfsm">\n					Mission:</div>\n			</td>\n			<td valign="top">\n				<div class="mfsm">\n					<span>Through inspiration\, strategies and support\, members transform their lives and the lives of other women. Connect with fabulous women in a loving\, celebratory and supportive community!</span></div>\n			</td>\n		</tr>\n		<tr valign="top">\n			<td class="label" valign="top">\n				<div class="mfsm">\n					Products:</div>\n			</td>\n			<td valign="top">\n				<div class="mfsm">\n					<span>CHECK OUT AMAZON FOR:<br />\n					<br />\n					BOOK 1: Women on Fire: 20 Inspiring Women Share Their Life Secrets (and Save You Years of Struggle!)<br />\n					<br />\n					BOOK 2- COMING OUT LATE SUMMER 2013<br />\n					Women On Fire Book II: 21 Inspiring Women Share Their Life Secrets (and Save You Years of Struggle!)<br />\n					<br />\n					<br />\n					CHECK OUT OUR EVENTS PAGE FOR:<br />\n					<br />\n					Teas Across the Country<br />\n					<br />\n					Annual Women On Fire Retreat EARLY 2014<br />\n					<br />\n					2 Trips to Paris in 2014<br />\n					<br />\n					Vision Day&reg\;</span></div>\n			</td>\n		</tr>\n		<tr valign="top">\n			<td class="label" valign="top">\n				<div class="mfsm">\n					Facebook:</div>\n			</td>\n			<td valign="top">\n				<div class="mfsm">\n					<span class="fcs"><font color="#6d84b4">facebook.com/BeAWomanOnFire</font></span></div>\n			</td>\n		</tr>\n	</tbody>\n</table>\n
LOCATION:A Perfect Event 3050 N Lincoln Ave Chicago\, Illinois 60657
UID:e.1819.168
SEQUENCE:3
DTSTAMP:20260424T154627Z
URL:https://members.lakeviewroscoevillage.org/events/details/women-on-fire-book-signing-hosted-by-debi-lilly-02-12-2014-168
END:VEVENT

END:VCALENDAR
