BEGIN:VCALENDAR
VERSION:2.0
PRODID:-//ChamberMaster//Event Calendar 2.0//EN
METHOD:PUBLISH
X-PUBLISHED-TTL:P3D
REFRESH-INTERVAL:P3D
CALSCALE:GREGORIAN
BEGIN:VEVENT
DTSTART:20140402T150000Z
DTEND:20140402T170000Z
X-MICROSOFT-CDO-ALLDAYEVENT:FALSE
SUMMARY:Women's Craft Club at Chicago Art & Design
DESCRIPTION:Chicago Art & Design Center hosts a weekly Craft Club for Women!\n\n\n\nThe club members will discuss the projects and vote on which ones the club is  most interested in doing. Write down the projects and all of the materials  needed. Incorporate the projects with the most votes into future schedules.\n\n\n\nA  basic list of craft ideas includes knitting\, crocheting\, bead work\, pottery\,  candle-making\, soap-making\, homemade cosmetics\, crafts for infants\, clothing  crafts\, mosaics and home decor.\n\n\n\nRegister online.
X-ALT-DESC;FMTTYPE=text/html:<span style="color: rgb(102\, 102\, 102)\; font-family: 'Helvetica Neue'\, Helvetica\, Arial\, sans-serif\; font-size: large\; line-height: normal\;">Chicago Art &amp\; Design Center hosts a weekly Craft Club for Women!<br />\n<br />\nThe club members will discuss the projects and vote on which ones the club is&nbsp\; most interested in doing. Write down the projects and all of the materials&nbsp\; needed. Incorporate the projects with the most votes into future schedules.<br />\n<br />\nA&nbsp\; basic list of craft ideas includes knitting\, crocheting\, bead work\, pottery\,&nbsp\; candle-making\, soap-making\, homemade cosmetics\, crafts for infants\, clothing&nbsp\; crafts\, mosaics and home decor.<br />\n<br />\n<a href="http://chicagoartanddesigncenter.com/adult-classes/womens-crat-club/">Register online.</a></span><br />\n&nbsp\;
LOCATION:Chicago Art & Design Center 3054 N. Greenview Chicago\, IL 60657 773-360-3353
UID:e.1819.237
SEQUENCE:3
DTSTAMP:20260424T140011Z
URL:https://members.lakeviewroscoevillage.org/events/details/women-s-craft-club-at-chicago-art-design-04-02-2014-237
END:VEVENT

END:VCALENDAR
