BEGIN:VCALENDAR
VERSION:2.0
PRODID:-//ChamberMaster//Event Calendar 2.0//EN
METHOD:PUBLISH
X-PUBLISHED-TTL:P3D
REFRESH-INTERVAL:P3D
CALSCALE:GREGORIAN
BEGIN:VEVENT
DTSTART:20140726T180000Z
DTEND:20140727T230000Z
X-MICROSOFT-CDO-ALLDAYEVENT:FALSE
SUMMARY:Women's Self Defense Seminar at TGMA July 26-27
DESCRIPTION:There is a difference between Martial Arts and Self-Defense!  A trained martial artist certainly has a few more tools in his or her arsenal to deal with an attack\, but in a modern context\, effectively dealing with violence involves a lot more than knowing how to throw a punch.  \n\n\n\n We've put together a comprehensive program that prepares students to deal with the psychological and legal aspects of self-defense\, as well as the physical.  This 11 hour intensive workshop will cover physical self-defense techniques\, mental preparedness and awareness\, emotional preparedness\, legal issues relating to self-defense in the United States\, and a host of other topics.  \n\n\n\nAs the title suggests\, this event is for female participants only.  We don't typically segregate our events by sex or gender\, but research suggests that doing so yields much better results for the participants.  However\, if we see a demand for men's self-defense workshops\, we may add those as well\, so if you're interested in seeing that sort of a seminar\, please speak up!    \n\n\n\nIf you can't make it this time\, but are interested in self-defense\, let us know!  We also offer private instruction\, corporate self-defense events\, and host private events. Email us for more details.  Salamat po!
X-ALT-DESC;FMTTYPE=text/html:<strong>There is a difference between Martial Arts and Self-Defense!</strong>&nbsp\;&nbsp\;A trained martial artist certainly has a few more tools in his or her arsenal to deal with an attack\, but in a modern context\, effectively dealing with violence involves a lot more than knowing how to throw a punch. &nbsp\;<br />\n<br />\n&nbsp\;We&#39\;ve put together a comprehensive program that prepares students to deal with the psychological and legal aspects of self-defense\, as well as the physical. &nbsp\;This 11 hour intensive workshop will cover physical self-defense techniques\, mental preparedness and awareness\, emotional preparedness\, legal issues relating to self-defense in the United States\, and a host of other topics. &nbsp\;<br />\n<br />\nAs the title suggests\, this event is for female participants only. &nbsp\;We don&#39\;t typically segregate our events by sex or gender\, but research suggests that doing so yields much better results for the participants. &nbsp\;However\, if we see a demand for men&#39\;s self-defense workshops\, we may add those as well\, so if you&#39\;re interested in seeing that sort of a seminar\, please speak up! &nbsp\;&nbsp\;&nbsp\;<br />\n<br />\nIf you can&#39\;t make it this time\, but are interested in self-defense\, let us know! &nbsp\;We also offer private instruction\, corporate self-defense events\, and host private events. Email us for more details.&nbsp\; Salamat po!
LOCATION:2940 N Lincoln Avenue\, Floor 2 (just south of Las Tablas\, glass door with a Rooster on it)
UID:e.1819.336
SEQUENCE:3
DTSTAMP:20260424T051403Z
URL:https://members.lakeviewroscoevillage.org/events/details/women-s-self-defense-seminar-at-tgma-july-26-27-07-26-2014-336
END:VEVENT

END:VCALENDAR
