BEGIN:VCALENDAR
VERSION:2.0
PRODID:-//ChamberMaster//Event Calendar 2.0//EN
METHOD:PUBLISH
X-PUBLISHED-TTL:P3D
REFRESH-INTERVAL:P3D
CALSCALE:GREGORIAN
BEGIN:VEVENT
DTSTART:20140312T233000Z
DTEND:20140313T010000Z
X-MICROSOFT-CDO-ALLDAYEVENT:FALSE
SUMMARY:Wrigley Field Community Meeting
DESCRIPTION:The Wrigley Field Annual Community Meeting\, which was previously canceled due to weather\, has been rescheduled.  \n\n \n\nWednesday\, March 12\, 2014 \n\n6:30 pm   8:00 pm\n\n19th District Chicago Police Station\n\n850 West Addison Street
X-ALT-DESC;FMTTYPE=text/html:<span style="color:black\;"><span style="font-family:arial\,sans-serif\;">The Wrigley Field Annual Community Meeting\, which was previously canceled due to weather\, has been rescheduled.&nbsp\; </span></span><br />\n<strong><span style="font-size:14px\;"><span style="font-family:arial\;">&nbsp\;</span></span></strong><br />\n<span style="font-size:14px\;"><span style="font-family:arial\;"><span style="color:black\;">Wednesday\, March 12\, 2014 </span><br />\n<span style="color:black\;">6:30 pm &ndash\; 8:00 pm</span><br />\n<span style="color:black\;">19<sup>th</sup> District Chicago Police Station</span><br />\n<span style="color:black\;">850 West Addison Street</span></span></span>
LOCATION:19th District Chicago Police Station 850 West Addison Street Chicago\, IL 60613
UID:e.1819.216
SEQUENCE:3
DTSTAMP:20260424T140220Z
URL:https://members.lakeviewroscoevillage.org/events/details/wrigley-field-community-meeting-03-12-2014-216
END:VEVENT

END:VCALENDAR
