BEGIN:VCALENDAR
VERSION:2.0
PRODID:-//ChamberMaster//Event Calendar 2.0//EN
METHOD:PUBLISH
X-PUBLISHED-TTL:P3D
REFRESH-INTERVAL:P3D
CALSCALE:GREGORIAN
BEGIN:VEVENT
DTSTART;VALUE=DATE:20140802
DTEND;VALUE=DATE:20140804
TRANSP:TRANSPARENT
X-MICROSOFT-CDO-ALLDAYEVENT:TRUE
SUMMARY:Wrigleyville Summerfest by StarEvents
DESCRIPTION:Batter up! It's time to take the mound for the 12th annual Wrigleyville Summerfest along with fest fanatics in one of the city's most popular neighborhoods. The neighborhood that's home to the Chicago Cubs will host this grand slam event featuring only the most sought after bands\, food and fun from August 2-3.\n\nEnjoy this triple play of great food\, music and family fun starting Saturday at noon. A diverse lineup of delicious food and beverages will be available throughout Wrigleyville Summerfest as your stroll the historic streets. Top neighborhood vendors and restaurants will serve up their favorite savory summer cuisines and treats. Seem like we're missing a beverage? Don't worry\, there will be beer to pair with these delectable munchies!\n\nAn exciting array of musical talent will keep the two-day party going and feature some of the best original and cover artists Chicago has to offer. Adults and kids alike will be able to not only enjoy the music but also enjoy the beautiful summer weather. Wrigleyville Summer fest will also feature a special Kids Zone with games and other activities such as a moon bounce! DNA Info suggests that "adults manning the strollers can hit up food and shopping booths" while the kids are amused.\n\nProceeds benefit our wider community through Resurrection Lutheran Church\, Lakeview Pantry\, The Night Ministry and the Chicago Coalition for the Homeless. Admission is a $5 suggested donation. We appreciate your support!
X-ALT-DESC;FMTTYPE=text/html:<p style="margin: 0px 0px 1.618em\; padding: 0px\; border: 0px\; font-size: 14px\; vertical-align: baseline\; orphans: 3\; widows: 3\; color: rgb(40\, 40\, 40)\; font-family: Cabin\, sans-serif\; line-height: 22.652000427246094px\;">Batter up! It&rsquo\;s time to take the mound for the 12<span style="margin: 0px\; padding: 0px\; border: 0px\; font-size: 11px\; vertical-align: baseline\; line-height: 0\; position: relative\; top: -0.5em\;">th</span>&nbsp\;annual Wrigleyville Summerfest along with fest fanatics in one of the city&rsquo\;s most popular neighborhoods. The neighborhood that&rsquo\;s home to the Chicago Cubs will host this grand slam event featuring only the most sought after bands\, food and fun from August 2-3.</p>\n\n<p style="margin: 0px 0px 1.618em\; padding: 0px\; border: 0px\; font-size: 14px\; vertical-align: baseline\; orphans: 3\; widows: 3\; color: rgb(40\, 40\, 40)\; font-family: Cabin\, sans-serif\; line-height: 22.652000427246094px\;">Enjoy this triple play of great food\, music and family fun starting Saturday at noon. A diverse lineup of delicious food and beverages will be available throughout Wrigleyville Summerfest as your stroll the historic streets. Top neighborhood vendors and restaurants will serve up their favorite savory summer cuisines and treats. Seem like we&rsquo\;re missing a beverage? Don&rsquo\;t worry\, there will be beer to pair with these delectable munchies!</p>\n\n<p style="margin: 0px 0px 1.618em\; padding: 0px\; border: 0px\; font-size: 14px\; vertical-align: baseline\; orphans: 3\; widows: 3\; color: rgb(40\, 40\, 40)\; font-family: Cabin\, sans-serif\; line-height: 22.652000427246094px\;">An exciting array of musical talent will keep the two-day party going and feature some of the best original and cover artists Chicago has to offer. Adults and kids alike will be able to not only enjoy the music but also enjoy the beautiful summer weather. Wrigleyville Summer fest will also feature a special Kids Zone with games and other activities such as a moon bounce!&nbsp\;<a href="http://www.dnainfo.com/chicago/20130801/lakeview/wrigleyville-summerfest-brings-back-inflatables-moon-bounce-this-weekend" style="margin: 0px\; padding: 0px\; border: 0px\; vertical-align: baseline\; color: rgb(34\, 147\, 226)\; text-decoration: none\;">DNA Info</a>&nbsp\;suggests that &ldquo\;adults manning the strollers can hit up food and shopping booths&rdquo\; while the kids are amused.</p>\n\n<p style="margin: 0px 0px 1.618em\; padding: 0px\; border: 0px\; font-size: 14px\; vertical-align: baseline\; orphans: 3\; widows: 3\; color: rgb(40\, 40\, 40)\; font-family: Cabin\, sans-serif\; line-height: 22.652000427246094px\; text-align: justify\;">Proceeds benefit our wider community through&nbsp\;<a href="http://www.rlclakeview.com/" style="margin: 0px\; padding: 0px\; border: 0px\; vertical-align: baseline\; color: rgb(34\, 147\, 226)\; text-decoration: none\;">Resurrection Lutheran Church</a>\,&nbsp\;<a href="http://www.lakeviewpantry.org/" style="margin: 0px\; padding: 0px\; border: 0px\; vertical-align: baseline\; color: rgb(34\, 147\, 226)\; text-decoration: none\;">Lakeview Pantry\,</a>&nbsp\;<a href="http://www.thenightministry.org/" style="margin: 0px\; padding: 0px\; border: 0px\; vertical-align: baseline\; color: rgb(34\, 147\, 226)\; text-decoration: none\;">The Night Ministry</a>&nbsp\;and&nbsp\;<a href="http://www.chicagohomeless.org/" style="margin: 0px\; padding: 0px\; border: 0px\; vertical-align: baseline\; color: rgb(34\, 147\, 226)\; text-decoration: none\;">the Chicago Coalition for the Homeless</a>. Admission is a $5 suggested donation. We appreciate your support!</p>\n
LOCATION:Wrigleyville
UID:e.1819.325
SEQUENCE:3
DTSTAMP:20260424T030327Z
URL:https://members.lakeviewroscoevillage.org/events/details/wrigleyville-summerfest-by-starevents-08-02-2014-325
END:VEVENT

END:VCALENDAR
