BEGIN:VCALENDAR
VERSION:2.0
PRODID:-//ChamberMaster//Event Calendar 2.0//EN
METHOD:PUBLISH
X-PUBLISHED-TTL:P3D
REFRESH-INTERVAL:P3D
CALSCALE:GREGORIAN
BEGIN:VEVENT
DTSTART;VALUE=DATE:20160908
DTEND;VALUE=DATE:20160909
TRANSP:TRANSPARENT
X-MICROSOFT-CDO-ALLDAYEVENT:TRUE
SUMMARY:Writers Workshop with David Blixy
DESCRIPTION:Rising Action - How to Raise Readers' Heartrates\n\nBuilding dramatic tension takes a lot of discipline\, and requires both a strong sense of character and an excellent grasp of structure. Join best-selling historical fiction author David Blixt (The Master Of Verona\, Her Majesty's Will) for a freewheeling discussion of how to craft dramatic tension as you build towards your story's climax. Learn both the basics and a few tricks and short-cuts that will keep your readers flipping pages\, desperate to find out what happens next.  \n\nwww.davidblixt.com/
X-ALT-DESC;FMTTYPE=text/html:<p><u>Rising Action - How to Raise Readers&#39\; Heartrates</u><br />\nBuilding dramatic tension takes a lot of discipline\, and requires both a strong sense of character and an excellent grasp of structure. Join best-selling historical fiction author David Blixt (The Master Of Verona\, Her Majesty&#39\;s Will) for a freewheeling discussion of how to craft dramatic tension as you build towards your story&#39\;s climax. Learn both the basics and a few tricks and short-cuts that will keep your readers flipping pages\, desperate to find out what happens next.&nbsp\;&nbsp\;</p>\n\n<p><a data-saferedirecturl="https://www.google.com/url?hl=en&amp\;q=http://www.davidblixt.com/&amp\;source=gmail&amp\;ust=1472741467309000&amp\;usg=AFQjCNF2sdGag2Oz0F0AsV6MRKvhXvSFxw" href="http://www.davidblixt.com/" target="_blank">www.davidblixt.com/</a></p>\n
LOCATION:Chicago Public Library - Lincoln Belmont Branch 1659 W Melrose St.
UID:e.1819.3590
SEQUENCE:3
DTSTAMP:20260422T061222Z
URL:https://members.lakeviewroscoevillage.org/events/details/writers-workshop-with-david-blixy-09-08-2016-3590
END:VEVENT

END:VCALENDAR
