BEGIN:VCALENDAR
VERSION:2.0
PRODID:-//ChamberMaster//Event Calendar 2.0//EN
METHOD:PUBLISH
X-PUBLISHED-TTL:P3D
REFRESH-INTERVAL:P3D
CALSCALE:GREGORIAN
BEGIN:VEVENT
DTSTART:20150228T170000Z
DTEND:20150228T200000Z
X-MICROSOFT-CDO-ALLDAYEVENT:FALSE
SUMMARY:X-Sport Fitness open house
DESCRIPTION:Health seminar ( 1 on 1 with a personal trainer\, supplement sampling\, nutritional advice\, discounted rates for membership / personal training packages)
X-ALT-DESC;FMTTYPE=text/html:Health seminar ( 1 on 1 with a personal trainer\, supplement sampling\, nutritional advice\, discounted rates for membership / personal training packages)
LOCATION:X-sport 3240 n Ashland
UID:e.1819.1505
SEQUENCE:3
DTSTAMP:20260423T152307Z
URL:https://members.lakeviewroscoevillage.org/events/details/x-sport-fitness-open-house-02-28-2015-1505
END:VEVENT

END:VCALENDAR
