BEGIN:VCALENDAR
VERSION:2.0
PRODID:-//ChamberMaster//Event Calendar 2.0//EN
METHOD:PUBLISH
X-PUBLISHED-TTL:P3D
REFRESH-INTERVAL:P3D
CALSCALE:GREGORIAN
BEGIN:VEVENT
DTSTART:20161209T010000Z
DTEND:20161209T021500Z
X-MICROSOFT-CDO-ALLDAYEVENT:FALSE
SUMMARY:Yoga flow with Reiki
DESCRIPTION:Join us for a gentle vinyasa flow with Reiki. Vinyasa flow is a type of yoga that incorporates movement from pose to pose focusing on strength and flexibility.\n\n\n\nReiki is an energy balancing modality that induces a state of peace and joy in the body\, mind and spirit. It is so relaxing that just one hour of treatment can be equivalent to four hours of sleep. While Reiki mainly focuses on the subtler levels of being such as emotional and spiritual aspects\, it can bring deep balance to the physical body.\n\n\n\nTogether\, yoga and Reiki will be woven throughout the class for a deep sense of bliss and peace.\n\nSpots are limited to 9\, so RSVP as soon as you can!\n\nPlease bring your own yoga mat.
X-ALT-DESC;FMTTYPE=text/html:Join us for a gentle vinyasa flow with Reiki. Vinyasa flow is a type of yoga that incorporates movement from pose to pose focusing on strength and flexibility.<br />\n<br />\nReiki is an energy balancing modality that induces a state of peace and joy in the body\, mind and spirit. It is so relaxing that just one hour of treatment can be equivalent to four hours of sleep. While Reiki mainly focuses on the subtler levels of being such as emotional and spiritual aspects\, it can bring deep balance to the physical body.<br />\n<br />\nTogether\, yoga and Reiki will be woven throughout the class for a deep sense of bliss and peace.<br />\nSpots are limited to 9\, so RSVP as soon as you can!<br />\nPlease bring your own yoga mat.
LOCATION:Universal Wellness Source 3324 N Halsted St Chicago\, IL 60657
UID:e.1819.4855
SEQUENCE:3
DTSTAMP:20260420T063329Z
URL:https://members.lakeviewroscoevillage.org/events/details/yoga-flow-with-reiki-12-08-2016-4855
END:VEVENT

END:VCALENDAR
