BEGIN:VCALENDAR
VERSION:2.0
PRODID:-//ChamberMaster//Event Calendar 2.0//EN
METHOD:PUBLISH
X-PUBLISHED-TTL:P3D
REFRESH-INTERVAL:P3D
CALSCALE:GREGORIAN
BEGIN:VEVENT
DTSTART:20150717T001500Z
DTEND:20150717T011500Z
X-MICROSOFT-CDO-ALLDAYEVENT:FALSE
SUMMARY:Yoga for Runners
DESCRIPTION:An energizing power vinyasa style yoga class taught by Felecia Marottoli with a focus on hip opening and stability centered around a runner's needs\, but beneficial for everyone! This class will work on opening the hips and stretching the hamstrings\, as well as work on dynamic balancing to strengthen stabilizing muscles in the hips and legs. A great cross session for runners\, as well as those who sit at a desk all day. Participants will receive 20% off full price merchandise at Lol  Southport Chicago. Mats available on a first come first serve basis.
X-ALT-DESC;FMTTYPE=text/html:<p>An energizing power vinyasa style yoga class taught by Felecia Marottoli with a focus on hip opening and stability centered around a runner&#39\;s needs\, but beneficial for everyone! This class will work on opening the hips and stretching the hamstrings\, as well as work on dynamic balancing to strengthen stabilizing muscles in the hips and legs. A great cross session for runners\, as well as those who sit at a desk all day. Participants will receive 20% off full price merchandise at Lol&euml\; Southport Chicago. Mats available on a first come first serve basis.</p>\n\n<div>\n<div>&nbsp\;</div>\n</div>\n\n<div>\n<div>\n<div>\n<div>\n<div>\n<div>&nbsp\;</div>\n</div>\n</div>\n</div>\n</div>\n\n<div>&nbsp\;</div>\n</div>\n\n<h2>&nbsp\;</h2>\n
LOCATION:Lol 3434 N Southport Chicago\, IL 60657
UID:e.1819.1782
SEQUENCE:3
DTSTAMP:20260423T060630Z
URL:https://members.lakeviewroscoevillage.org/events/details/yoga-for-runners-07-16-2015-1782
END:VEVENT

END:VCALENDAR
