BEGIN:VCALENDAR
VERSION:2.0
PRODID:-//ChamberMaster//Event Calendar 2.0//EN
METHOD:PUBLISH
X-PUBLISHED-TTL:P3D
REFRESH-INTERVAL:P3D
CALSCALE:GREGORIAN
BEGIN:VEVENT
DTSTART:20140510T200000Z
DTEND:20140510T220000Z
X-MICROSOFT-CDO-ALLDAYEVENT:FALSE
SUMMARY:Yoga for Sleeplessness and Insommnia
DESCRIPTION:
X-ALT-DESC;FMTTYPE=text/html:
LOCATION:Ganesha Yoga 3113 N. Lincoln Ave Chicago\, IL 60657
UID:e.1819.270
SEQUENCE:3
DTSTAMP:20260424T100118Z
URL:https://members.lakeviewroscoevillage.org/events/details/yoga-for-sleeplessness-and-insommnia-05-10-2014-270
END:VEVENT

END:VCALENDAR
