BEGIN:VCALENDAR
VERSION:2.0
PRODID:-//ChamberMaster//Event Calendar 2.0//EN
METHOD:PUBLISH
X-PUBLISHED-TTL:P3D
REFRESH-INTERVAL:P3D
CALSCALE:GREGORIAN
BEGIN:VEVENT
DTSTART:20160806T230000Z
DTEND:20160807T020000Z
X-MICROSOFT-CDO-ALLDAYEVENT:FALSE
SUMMARY:Young Teen 12-Hour Self-Defense Intensive Course
DESCRIPTION:Friday\, August 5     Sunday\, August 7\n\nFriday\, August 5th :    6:00 - 9:00 pm\n\nSaturday\, August 6th : 1:30 - 6:00 pm\n\nSunday\, August 7th : 1:30 - 6:00 pm\n\n \n\nOne weekend can change your life!  This in-depth course is 12 hours over three days (Friday evening and Saturday and Sunday afternoon). Each day\, students have the opportunity to practice physical skills\, awareness skills\, verbal skills\, and social skills that will enhance their safety in a variety of situations.  We use the Five Fingers of Self-Defense (Think\, Yell\, Run\, Fight\, and Tell) to teach young teens how to accurately assess their risk and respond to violence before it escalates\, while also teaching physical techniques to defend against direct physical and sexual assault.  Classes are a mix of group discussion\, role plays\, and physical drills and activities.  Our goal is to reduce both the prevalence and the harm of violence.  This course is especially for young teens (ages 12   16)\, and will focus on staying safe while navigating greater independence.  Taught from a strengths-based\, empowerment framework that validates and respects individual choice.  Open to all genders.
X-ALT-DESC;FMTTYPE=text/html:Friday\, August 5&nbsp\;&nbsp\; &ndash\; Sunday\, August 7<br />\nFriday\, August 5<sup>th</sup> : &nbsp\;&nbsp\;&nbsp\;6:00 - 9:00 pm<br />\nSaturday\, August 6<sup>th</sup> : 1:30 - 6:00 pm<br />\nSunday\, August 7<sup>th</sup> : 1:30 - 6:00 pm<br />\n&nbsp\;<br />\nOne weekend can change your life!&nbsp\; This in-depth course is 12 hours over three days (Friday evening and Saturday and Sunday afternoon). Each day\, students have the opportunity to practice physical skills\, awareness skills\, verbal skills\, and social skills that will enhance their safety in a variety of situations.&nbsp\; We use the Five Fingers of Self-Defense (Think\, Yell\, Run\, Fight\, and Tell) to teach young teens how to accurately assess their risk and respond to violence before it escalates\, while also teaching physical techniques to defend against direct physical and sexual assault.&nbsp\; Classes are a mix of group discussion\, role plays\, and physical drills and activities.&nbsp\; Our goal is to reduce both the prevalence and the harm of violence.&nbsp\; This course is especially for young teens (ages 12 &ndash\; 16)\, and will focus on staying safe while navigating greater independence.&nbsp\; Taught from a strengths-based\, empowerment framework that validates and respects individual choice.&nbsp\; Open to all genders.
LOCATION:Thousand Waves Martial Arts and Self Defense Center\, NFP 1220 W Belmont Chicago\, IL 60657
UID:e.1819.3302
SEQUENCE:3
DTSTAMP:20260422T062440Z
URL:https://members.lakeviewroscoevillage.org/events/details/young-teen-12-hour-self-defense-intensive-course-08-06-2016-3302
END:VEVENT

END:VCALENDAR
