BEGIN:VCALENDAR
VERSION:2.0
PRODID:-//ChamberMaster//Event Calendar 2.0//EN
METHOD:PUBLISH
X-PUBLISHED-TTL:P3D
REFRESH-INTERVAL:P3D
CALSCALE:GREGORIAN
BEGIN:VEVENT
DTSTART:20131214T170000Z
DTEND:20131214T180000Z
X-MICROSOFT-CDO-ALLDAYEVENT:FALSE
SUMMARY:Zoppe Family Circus
DESCRIPTION:An up-close and personal experience with a circus!  Jugglers\, clowns and trapeze artists are all part of the The Zoppe Family Circus\, an event that will make you believe in history\, art and laughter\, and not necessarily in that order.\n\n\n\nPlease join children of all ages for a truly magical experience.  Eight generations have contributed to the circus arts and comic soul that is Nino's Magical Holiday Adventure. \n\n\n\nFor those who have seen the Zoppe's Family Circus before\, this is a rare chance to see a winter show in an more intimate space than their tent.  For those who do not yet know\, you will marvel at the spirit and talent of these amazing Italian artisans.
X-ALT-DESC;FMTTYPE=text/html:An up-close and personal experience with a circus! &nbsp\;Jugglers\, clowns and trapeze artists are all part of the The Zoppe Family Circus\, an event that will make you believe in history\, art and laughter\, and not necessarily in that order.<br />\n<br />\nPlease join children of all ages for a truly magical experience. &nbsp\;Eight generations have contributed to the circus arts and comic soul that is Nino&#39\;s Magical Holiday Adventure.&nbsp\;<br />\n<br />\nFor those who have seen the Zoppe&#39\;s Family Circus before\, this is a rare chance to see a winter show in an more intimate space than their tent. &nbsp\;For those who do not yet know\, you will marvel at the spirit and talent of these amazing Italian artisans. 
LOCATION:615 W. Wellington Ave. Chicago
UID:e.1819.134
SEQUENCE:3
DTSTAMP:20260424T190841Z
URL:https://members.lakeviewroscoevillage.org/events/details/zoppe-family-circus-12-14-2013-134
END:VEVENT

END:VCALENDAR
